BEGIN:VCALENDAR
VERSION:2.0
PRODID:-//Backgammon - ECPv6.7.1//NONSGML v1.0//EN
CALSCALE:GREGORIAN
METHOD:PUBLISH
X-WR-CALNAME:Backgammon
X-ORIGINAL-URL:https://bgconnection.com
X-WR-CALDESC:Events for Backgammon
REFRESH-INTERVAL;VALUE=DURATION:PT1H
X-Robots-Tag:noindex
X-PUBLISHED-TTL:PT1H
BEGIN:VTIMEZONE
TZID:America/New_York
BEGIN:DAYLIGHT
TZOFFSETFROM:-0500
TZOFFSETTO:-0400
TZNAME:EDT
DTSTART:20250309T070000
END:DAYLIGHT
BEGIN:STANDARD
TZOFFSETFROM:-0400
TZOFFSETTO:-0500
TZNAME:EST
DTSTART:20251102T060000
END:STANDARD
END:VTIMEZONE
BEGIN:VEVENT
DTSTART;VALUE=DATE:20250709
DTEND;VALUE=DATE:20250714
DTSTAMP:20260420T152657
CREATED:20250417T184159Z
LAST-MODIFIED:20250528T184514Z
UID:19439-1752019200-1752451199@bgconnection.com
SUMMARY:43rd Swedish Open
DESCRIPTION:QUALIFIER TOURNAMENT\n					\n					\n				\n								\n				\n					\n		\n					\n		\n				\n						\n					\n			\n						\n				\n							\n			 Days Hours Minutes Seconds		\n						\n									\n								\n				\n				\n				\n							\n			\n						\n		\n						\n				\n				\n				\n							\n			\n						\n		\n						\n				\n					\n		\n					\n		\n				\n						\n					\n			\n						\n							\n							\n					\n			\n						\n				\n							\n			\n											\n												\n											\n					\n											\n				\n									\n						\n				\n				\n				\n									\n					\n						\n						\n							\n									Explore Our Swedan Blog\n					\n					\n				\n								\n				\n					\n		\n				\n			\n						\n				\n					\nAbout\n\nThe Miami Open will be hosted at the beautiful Newport Beachside Hotel & Resort\, located directly on the shores of Sunny Isles Beach. With stunning ocean views and a vibrant tropical atmosphere\, this beachfront resort offers the perfect blend of luxury and relaxation. Whether you're enjoying the sea breeze between rounds or unwinding after a day of competitive play\, the scenic backdrop of Miami’s coastline will be a memorable part of your tournament experience.\n\n \n\nE-mail: miamiopenbg@gmail.com \n\nPhone: +1 786 9992623 \n\nAddress: 16701 Collins Ave\, Sunny Isles Beach\, Florida\, 33312\, USA \n\n\n				\n				\n				\n				\n					\n\n  \n 	\n 	\n 	\n 	\n\n\n\n				\n				\n				\n				\n																														\n				\n					\n		\n					\n		\n					\n		\n					\n		\n				\n						\n					\n			\n						\n				\n							\n					\n				\n				\n			\n							\n				\n									\n						2nd Miami Open					\n				\n									\n						Join our online single-elimination qualifier for a chance to win a fully paid trip to the Miami Open!   \n\nClick below to enter and elevate your game! \n\n					\n				\n									\n					\n						ONLINE QUALIFIER 					\n					\n							\n							\n				JOIN NOW\n			\n				\n						\n				\n				\n				\n																														\n				\n					\n		\n					\n		\n				\n						\n					\n			\n						\n				\n					Main Event Format\n				\n				\n				\n				\n							\n			\n		\n						\n				\n				\n				\n									Full double-elimination\, no re-buys. You can still win first place with one loss. Eliminated with two losses. No Last Chance. Players who lose a match drop to a Fighters bracket. The winner of the Fighters bracket plays the last undefeated player in a single Finals match. 								\n				\n					\n		\n					\n		\n				\n						\n					\n			\n						\n				\n							\n			\n				\n					DivisionEntry FeeReg. FeeSide Pool LengthClocks				\n			\n						\n				\n					Main€420€80€20011 PointsRequiredIntermediate€200€50€1009 PointsRequired				\n			\n		\n		\n						\n				\n					\n		\n					\n		\n				\n						\n					\n			\n						\n				\n					Description\n\n				\n				\n				\n				\n							\n			\n		\n						\n				\n				\n				\n									IMPORTANT NOTICEThe main event will be limited to 128 players! / The intermediate event will be limited to 64 players! All the events have a registration fee\, with a 100% return on both the prize pool and the side pools. There will be €15\,000 in added money distributed as follows: Warm Up €2\,000 –  Main €5\,000 – Super Doubles €4\,000 – Intermediate €2\,000 – Ladies €500 –  Auction €1\,500 Each division will pay at least three places\, depending on the number of entries. The Advanced Division is limited to players not considered to be strong Championship level. Play begins Wednesday at 16:00. If you lose in the main bracket\, you get a second chance. If you lose there\, you will be in the Last Chance draw on Sunday morning. Last Chance on Sunday is a fresh draw for those who did not cash in the main event. We follow the WBGF tournament rules. We strongly recommend that you book your room and entrance ASAP!   To ensure your participation\, please send an email to: ​​​sobackgammon@gmail.com 								\n				\n					\n		\n					\n		\n				\n						\n					\n			\n						\n				\n					Side Events				\n				\n				\n				\n					Super DoublesEntry: €450 / Side Pool: €200Registration Fee: €50Double-Elimination\, 7 PointsClocks Required Super JackpotEntry: €450 / Side Pool: €200Registration Fee: €50Single-Elimination\, 11 PointsClocks Required DMPEntry: €20Registration Fee: €5Single-Elimination\, 1 PointClocks Preferred SpeedGammonEntry: €40Registration Fee: €10Single-Elimination\, 5 PointsClocks Required SeniorsEntry: €40Registration Fee: €10Single-Elimination\, 5 PointsClocks Required LadiesEntry: €40Registration Fee: €10Single-Elimination\, 7 PointsClocks Required LaGammonEntry: €20Registration Fee: €5Single-Elimination\, 1 PointsClocks Preferred 				\n				\n					\n		\n				\n			\n						\n				\n					Events Schedule				\n				\n				\n				\n					Wednesday July 9th16:00 – Start of Registration19:00 – Start of Free Warm-Up (€2\,000 Added Money) Thursday July 10th11:00 – Start of Masters and Intermediate19:00 – Dinner Break21:00 – Mini Jackpots\, Seniors\, DMP and Speedgammon Friday July 11th11:00 – Start of Play19:00 – Dinner Break21:00 – Play Resumes Saturday July 12th11:00 – Start of Play14:00 – Start of Ladies (€500 Added Money)15:00 – Start of Super Jackpot19:00 – Dinner Break21:00 – Play Resumes Sunday July 13th11:00 – Start of Play11:00 – Last Chance & Finals17:30 – Prize Giving Ceremony IMPORTANT NOTICEThe Main Event will be limited to 128 players!The Intermediate Event will be limited to 64 players! 				\n				\n				\n				\n					€15\,000 Euro Added!				\n				\n				\n				\n					\n\n  \n    Qualifier Tournament \n  \n				\n				\n					\n		\n					\n		\n				\n						\n					\n			\n						\n				\n							\n			\n						\n		\n						\n				\n				\n				\n							\n			\n						\n		\n						\n				\n					\n		\n					\n		\n				\n						\n					\n			\n							\n		\n					\n		\n				\n						\n					\n			\n						\n				\n					Hotel Reservation				\n				\n				\n				\n							\n			\n		\n						\n				\n				\n				\n							\n			\n											\n												\n											\n					\n											\n				\n									\n						\n				\n				\n						\n					\n			\n						\n				\n																														\n				\n					\n		\n				\n			\n						\n				\n																														\n				\n					\n		\n					\n		\n					\n		\n				\n			\n						\n				\n					Hotel by the Sea				\n				\n				\n				\n					Vår Gård Saltsjöbaden				\n				\n				\n				\n																														\n				\n				\n				\n									Welcome to the hotel at Vår Gård\, your refuge from everyday life and a gem in Saltsjöbaden. Located in the Stockholm archipelago with scenic surroundings. A place for relaxation and recreation with proximity to the pulse of the city. 								\n				\n				\n				\n							\n							\n					\n													\n															\n								\n														\n												Single Room\n					\n					Our single rooms are tastefully decorated\, featuring comfortable beds from Carpe Diem. The rooms are excellently located near the pier\, sauna\, and relaxation area. Available Rates: Tue Jul 08 – Sat Jul 12\, 4 Nights\, 1 Guest Special Backgammon Rates / Promo Code: BG2025 3\,980 SEK /  Breakfast / 1 Guest / Non-Refundable4\,466 SEK / Breakfast / 1 Guest / Free Cancellation Until July 2nd\n				\n							\n					\n													\n															\n								\n														\n												Mini Double Room\n					\n					Our mini double rooms are tastefully decorated\, featuring comfortable beds from Carpe Diem. The rooms are excellently located near the pier\, sauna\, and relaxation area.  Available Rates: Tue Jul 08 – Sat Jul 12\, 4 Nights\, 1-2 Guest Special Backgammon Rates / Promo Code: BG2025 5\,516 SEK /  Breakfast / 1-2 Guest / Holiday Package5\,726 SEK / Breakfast / 1-2 Guest / Free Cancellation Until July 2nd \n				\n								\n						\n				\n				\n				\n									\n					\n						\n						\n							\n									BOOK YOUR ROOM HERE\n					\n					\n				\n								\n				\n					\n		\n					\n		\n				\n						\n					\n			\n						\n				\n					Tournament Gallery\n				\n				\n					\n		\n					\n		\n				\n						\n					\n			\n						\n				\n								\n									\n						All					\n				\n									\n						2024					\n										\n						2023					\n										\n						2022
URL:https://bgconnection.com/event/43rd-swedish-open/
CATEGORIES:Home Page,Red Event
END:VEVENT
END:VCALENDAR